BEGIN:VCALENDAR
VERSION:2.0
PRODID:-//Hallett Center of Crosby - ECPv6.15.20//NONSGML v1.0//EN
CALSCALE:GREGORIAN
METHOD:PUBLISH
X-WR-CALNAME:Hallett Center of Crosby
X-ORIGINAL-URL:https://hallettcenter.com
X-WR-CALDESC:Events for Hallett Center of Crosby
REFRESH-INTERVAL;VALUE=DURATION:PT1H
X-Robots-Tag:noindex
X-PUBLISHED-TTL:PT1H
BEGIN:VTIMEZONE
TZID:America/Chicago
BEGIN:DAYLIGHT
TZOFFSETFROM:-0600
TZOFFSETTO:-0500
TZNAME:CDT
DTSTART:20240310T080000
END:DAYLIGHT
BEGIN:STANDARD
TZOFFSETFROM:-0500
TZOFFSETTO:-0600
TZNAME:CST
DTSTART:20241103T070000
END:STANDARD
BEGIN:DAYLIGHT
TZOFFSETFROM:-0600
TZOFFSETTO:-0500
TZNAME:CDT
DTSTART:20250309T080000
END:DAYLIGHT
BEGIN:STANDARD
TZOFFSETFROM:-0500
TZOFFSETTO:-0600
TZNAME:CST
DTSTART:20251102T070000
END:STANDARD
BEGIN:DAYLIGHT
TZOFFSETFROM:-0600
TZOFFSETTO:-0500
TZNAME:CDT
DTSTART:20260308T080000
END:DAYLIGHT
BEGIN:STANDARD
TZOFFSETFROM:-0500
TZOFFSETTO:-0600
TZNAME:CST
DTSTART:20261101T070000
END:STANDARD
END:VTIMEZONE
BEGIN:VEVENT
DTSTART;TZID=America/Chicago:20251003T054500
DTEND;TZID=America/Chicago:20251003T064500
DTSTAMP:20260419T180614
CREATED:20250925T180341Z
LAST-MODIFIED:20250925T180341Z
UID:6197-1759470300-1759473900@hallettcenter.com
SUMMARY:SPIN
DESCRIPTION:This 1-hour high energy\, instructor guided workout uses our stationary bikes. Lori paces the workout to music to keep the intensity and the ability to set your own resistance makes it accessible for all levels. It’s a great way to start your day!
URL:https://hallettcenter.com/event/spin-19/
CATEGORIES:Fitness
ATTACH;FMTTYPE=image/jpeg:https://hallettcenter.com/wp-content/uploads/2025/04/spin-2.jpg
END:VEVENT
BEGIN:VEVENT
DTSTART;TZID=America/Chicago:20251003T080000
DTEND;TZID=America/Chicago:20251003T084500
DTSTAMP:20260419T180614
CREATED:20250812T181932Z
LAST-MODIFIED:20250812T181932Z
UID:6083-1759478400-1759481100@hallettcenter.com
SUMMARY:Chair Yoga
DESCRIPTION:This Yoga class is a fantastic accessible option for all skill levels. This is a great way to get that feel-good stretch in and is a slower-paced more relaxing practice.
URL:https://hallettcenter.com/event/chair-yoga-17/
CATEGORIES:Fitness
ATTACH;FMTTYPE=image/png:https://hallettcenter.com/wp-content/uploads/2025/05/chair-yoga.png
END:VEVENT
BEGIN:VEVENT
DTSTART;TZID=America/Chicago:20251003T090000
DTEND;TZID=America/Chicago:20251003T094500
DTSTAMP:20260419T180614
CREATED:20250812T182445Z
LAST-MODIFIED:20250812T182445Z
UID:6093-1759482000-1759484700@hallettcenter.com
SUMMARY:Forever Fit
DESCRIPTION:This 45-minute session focuses on increasing muscular strength\, range of motion\, and low impact cardio. It helps keep you on your toes and encourages activity for daily living needs. This class includes hand-held weights\, elastic stretch bands\, and a ball offered for resistance options. This class is mainly for intermediate level seniors.
URL:https://hallettcenter.com/event/forever-fit-62/
CATEGORIES:Fitness
ATTACH;FMTTYPE=image/jpeg:https://hallettcenter.com/wp-content/uploads/2025/04/fit50.jpg
END:VEVENT
END:VCALENDAR