BEGIN:VCALENDAR
VERSION:2.0
PRODID:-//Hallett Center of Crosby - ECPv6.15.20//NONSGML v1.0//EN
CALSCALE:GREGORIAN
METHOD:PUBLISH
X-ORIGINAL-URL:https://hallettcenter.com
X-WR-CALDESC:Events for Hallett Center of Crosby
REFRESH-INTERVAL;VALUE=DURATION:PT1H
X-Robots-Tag:noindex
X-PUBLISHED-TTL:PT1H
BEGIN:VTIMEZONE
TZID:America/Chicago
BEGIN:DAYLIGHT
TZOFFSETFROM:-0600
TZOFFSETTO:-0500
TZNAME:CDT
DTSTART:20240310T080000
END:DAYLIGHT
BEGIN:STANDARD
TZOFFSETFROM:-0500
TZOFFSETTO:-0600
TZNAME:CST
DTSTART:20241103T070000
END:STANDARD
BEGIN:DAYLIGHT
TZOFFSETFROM:-0600
TZOFFSETTO:-0500
TZNAME:CDT
DTSTART:20250309T080000
END:DAYLIGHT
BEGIN:STANDARD
TZOFFSETFROM:-0500
TZOFFSETTO:-0600
TZNAME:CST
DTSTART:20251102T070000
END:STANDARD
BEGIN:DAYLIGHT
TZOFFSETFROM:-0600
TZOFFSETTO:-0500
TZNAME:CDT
DTSTART:20260308T080000
END:DAYLIGHT
BEGIN:STANDARD
TZOFFSETFROM:-0500
TZOFFSETTO:-0600
TZNAME:CST
DTSTART:20261101T070000
END:STANDARD
END:VTIMEZONE
BEGIN:VEVENT
DTSTART;TZID=America/Chicago:20250428T054500
DTEND;TZID=America/Chicago:20250428T064500
DTSTAMP:20260420T022655
CREATED:20250414T153306Z
LAST-MODIFIED:20250414T153358Z
UID:4961-1745819100-1745822700@hallettcenter.com
SUMMARY:Spin Class
DESCRIPTION:This 1-hour high energy\, instructor guided workout uses our stationary bikes. Lori paces the workout to music to keep the intensity and the ability to set your own resistance makes it accessible for all levels. It’s a great way to start your day!
URL:https://hallettcenter.com/event/spin-class-8/
CATEGORIES:Fitness
ATTACH;FMTTYPE=image/jpeg:https://hallettcenter.com/wp-content/uploads/2025/04/spin-2.jpg
END:VEVENT
BEGIN:VEVENT
DTSTART;TZID=America/Chicago:20250428T090000
DTEND;TZID=America/Chicago:20250428T094500
DTSTAMP:20260420T022655
CREATED:20250414T155018Z
LAST-MODIFIED:20250414T155018Z
UID:4974-1745830800-1745833500@hallettcenter.com
SUMMARY:Fit Over 50
DESCRIPTION:This 45-minute session focuses on increasing muscular strength\, range of motion\, and low impact cardio. It helps keep you on your toes and encourages activity for daily living needs. This class includes hand-held weights\, elastic stretch bands\, and a ball offered for resistance options. This class is mainly for intermediate level seniors.
URL:https://hallettcenter.com/event/fit-over-50-7/
CATEGORIES:Fitness
ATTACH;FMTTYPE=image/jpeg:https://hallettcenter.com/wp-content/uploads/2025/04/fit50.jpg
END:VEVENT
BEGIN:VEVENT
DTSTART;TZID=America/Chicago:20250428T160000
DTEND;TZID=America/Chicago:20250428T184500
DTSTAMP:20260420T022655
CREATED:20250416T172038Z
LAST-MODIFIED:20250425T125309Z
UID:5097-1745856000-1745865900@hallettcenter.com
SUMMARY:Group Swim Class
DESCRIPTION:Group Swim Class 1 \nLessons are 45 minutes long \n4:00PM Levels 3\, 4 and 5\n5:00 PM Levels 1\, 2\, 3 and 4\n6:00 PM Levels 1 and 2\n\nChoose 1 time slot to attend\, based on your child’s skill level.\nVisit our aquatics page to help determine which level you should place your child.\n\n*This class requires formal registration and payment*
URL:https://hallettcenter.com/event/group-swim-class/
CATEGORIES:Family Fun,Fitness
ATTACH;FMTTYPE=image/jpeg:https://hallettcenter.com/wp-content/uploads/2025/04/swim-class.jpg
END:VEVENT
END:VCALENDAR