BEGIN:VCALENDAR
VERSION:2.0
PRODID:-//Hallett Center of Crosby - ECPv6.15.20//NONSGML v1.0//EN
CALSCALE:GREGORIAN
METHOD:PUBLISH
X-WR-CALNAME:Hallett Center of Crosby
X-ORIGINAL-URL:https://hallettcenter.com
X-WR-CALDESC:Events for Hallett Center of Crosby
REFRESH-INTERVAL;VALUE=DURATION:PT1H
X-Robots-Tag:noindex
X-PUBLISHED-TTL:PT1H
BEGIN:VTIMEZONE
TZID:America/Chicago
BEGIN:DAYLIGHT
TZOFFSETFROM:-0600
TZOFFSETTO:-0500
TZNAME:CDT
DTSTART:20250309T080000
END:DAYLIGHT
BEGIN:STANDARD
TZOFFSETFROM:-0500
TZOFFSETTO:-0600
TZNAME:CST
DTSTART:20251102T070000
END:STANDARD
BEGIN:DAYLIGHT
TZOFFSETFROM:-0600
TZOFFSETTO:-0500
TZNAME:CDT
DTSTART:20260308T080000
END:DAYLIGHT
BEGIN:STANDARD
TZOFFSETFROM:-0500
TZOFFSETTO:-0600
TZNAME:CST
DTSTART:20261101T070000
END:STANDARD
BEGIN:DAYLIGHT
TZOFFSETFROM:-0600
TZOFFSETTO:-0500
TZNAME:CDT
DTSTART:20270314T080000
END:DAYLIGHT
BEGIN:STANDARD
TZOFFSETFROM:-0500
TZOFFSETTO:-0600
TZNAME:CST
DTSTART:20271107T070000
END:STANDARD
END:VTIMEZONE
BEGIN:VEVENT
DTSTART;TZID=America/Chicago:20260102T054500
DTEND;TZID=America/Chicago:20260102T064500
DTSTAMP:20260419T111216
CREATED:20251117T172903Z
LAST-MODIFIED:20251117T172903Z
UID:6956-1767332700-1767336300@hallettcenter.com
SUMMARY:SPIN
DESCRIPTION:This 1-hour high energy\, instructor guided workout uses our stationary bikes. Lori paces the workout to music to keep the intensity and the ability to set your own resistance makes it accessible for all levels. It’s a great way to start your day!
URL:https://hallettcenter.com/event/spin-60/
CATEGORIES:Fitness
ATTACH;FMTTYPE=image/jpeg:https://hallettcenter.com/wp-content/uploads/2025/04/spin-2.jpg
END:VEVENT
BEGIN:VEVENT
DTSTART;TZID=America/Chicago:20260102T080000
DTEND;TZID=America/Chicago:20260102T084500
DTSTAMP:20260419T111216
CREATED:20251117T183354Z
LAST-MODIFIED:20251117T183354Z
UID:7092-1767340800-1767343500@hallettcenter.com
SUMMARY:Chair Yoga
DESCRIPTION:This Yoga class is a fantastic accessible option for all skill levels. This is a great way to get that feel-good stretch in and is a slower paced more relaxing practice. A chair is provided for assistance with poses\, occasional blocks and straps used for help with poses. This class is a breath-based option that will leave you feeling stretched and refreshed.
URL:https://hallettcenter.com/event/chair-yoga-43/
CATEGORIES:Fitness
ATTACH;FMTTYPE=image/png:https://hallettcenter.com/wp-content/uploads/2025/10/Screenshot-2025-10-30-111533.png
END:VEVENT
BEGIN:VEVENT
DTSTART;TZID=America/Chicago:20260102T090000
DTEND;TZID=America/Chicago:20260102T094500
DTSTAMP:20260419T111216
CREATED:20251117T174337Z
LAST-MODIFIED:20251117T174337Z
UID:6986-1767344400-1767347100@hallettcenter.com
SUMMARY:Forever Fit
DESCRIPTION:This 45-minute aerobics session focuses on increasing muscular strength\, range of motion\, and low impact cardio. It helps keep you on your toes and encourages activity for daily living needs. This class includes hand-held weights\, body weight workouts\, and variations for different levels of work. This class is a great full body workout that leaves you feeling accomplished.
URL:https://hallettcenter.com/event/forever-fit-115/
CATEGORIES:Fitness
END:VEVENT
END:VCALENDAR