BEGIN:VCALENDAR
VERSION:2.0
PRODID:-//Hallett Center of Crosby - ECPv6.15.20//NONSGML v1.0//EN
CALSCALE:GREGORIAN
METHOD:PUBLISH
X-WR-CALNAME:Hallett Center of Crosby
X-ORIGINAL-URL:https://hallettcenter.com
X-WR-CALDESC:Events for Hallett Center of Crosby
REFRESH-INTERVAL;VALUE=DURATION:PT1H
X-Robots-Tag:noindex
X-PUBLISHED-TTL:PT1H
BEGIN:VTIMEZONE
TZID:America/Chicago
BEGIN:DAYLIGHT
TZOFFSETFROM:-0600
TZOFFSETTO:-0500
TZNAME:CDT
DTSTART:20240310T080000
END:DAYLIGHT
BEGIN:STANDARD
TZOFFSETFROM:-0500
TZOFFSETTO:-0600
TZNAME:CST
DTSTART:20241103T070000
END:STANDARD
BEGIN:DAYLIGHT
TZOFFSETFROM:-0600
TZOFFSETTO:-0500
TZNAME:CDT
DTSTART:20250309T080000
END:DAYLIGHT
BEGIN:STANDARD
TZOFFSETFROM:-0500
TZOFFSETTO:-0600
TZNAME:CST
DTSTART:20251102T070000
END:STANDARD
BEGIN:DAYLIGHT
TZOFFSETFROM:-0600
TZOFFSETTO:-0500
TZNAME:CDT
DTSTART:20260308T080000
END:DAYLIGHT
BEGIN:STANDARD
TZOFFSETFROM:-0500
TZOFFSETTO:-0600
TZNAME:CST
DTSTART:20261101T070000
END:STANDARD
END:VTIMEZONE
BEGIN:VEVENT
DTSTART;TZID=America/Chicago:20250821T160000
DTEND;TZID=America/Chicago:20250821T180000
DTSTAMP:20260423T044637
CREATED:20250722T155101Z
LAST-MODIFIED:20250812T163248Z
UID:5934-1755792000-1755799200@hallettcenter.com
SUMMARY:Party Crashers RC Racing
DESCRIPTION:Party Crashers are coming to visit us to host an RC racing event! Party Crashers is a local business that brings a handful of RC cars and sets up the courses to race on. They will be bringing different options this year and will be setting everything up\, so the course is race – ready by 1pm! This event will be in our front lot and is open to the public! \nTo Register: Contact Chris by email or phone. \nEmail: PartyCrashersRC@yahoo.com Phone:763-501-4872 \nYou can bring your own RC car too! Just have to run it by Chris to make sure it is approved prior to the event.
URL:https://hallettcenter.com/event/party-crashers-rc-racing/
CATEGORIES:Announcements,Family Fun
ATTACH;FMTTYPE=image/png:https://hallettcenter.com/wp-content/uploads/2025/07/RC.png
END:VEVENT
END:VCALENDAR