BEGIN:VCALENDAR
VERSION:2.0
PRODID:-//Hallett Center of Crosby - ECPv6.15.20//NONSGML v1.0//EN
CALSCALE:GREGORIAN
METHOD:PUBLISH
X-ORIGINAL-URL:https://hallettcenter.com
X-WR-CALDESC:Events for Hallett Center of Crosby
REFRESH-INTERVAL;VALUE=DURATION:PT1H
X-Robots-Tag:noindex
X-PUBLISHED-TTL:PT1H
BEGIN:VTIMEZONE
TZID:America/Chicago
BEGIN:DAYLIGHT
TZOFFSETFROM:-0600
TZOFFSETTO:-0500
TZNAME:CDT
DTSTART:20240310T080000
END:DAYLIGHT
BEGIN:STANDARD
TZOFFSETFROM:-0500
TZOFFSETTO:-0600
TZNAME:CST
DTSTART:20241103T070000
END:STANDARD
BEGIN:DAYLIGHT
TZOFFSETFROM:-0600
TZOFFSETTO:-0500
TZNAME:CDT
DTSTART:20250309T080000
END:DAYLIGHT
BEGIN:STANDARD
TZOFFSETFROM:-0500
TZOFFSETTO:-0600
TZNAME:CST
DTSTART:20251102T070000
END:STANDARD
BEGIN:DAYLIGHT
TZOFFSETFROM:-0600
TZOFFSETTO:-0500
TZNAME:CDT
DTSTART:20260308T080000
END:DAYLIGHT
BEGIN:STANDARD
TZOFFSETFROM:-0500
TZOFFSETTO:-0600
TZNAME:CST
DTSTART:20261101T070000
END:STANDARD
END:VTIMEZONE
BEGIN:VEVENT
DTSTART;VALUE=DATE:20251027
DTEND;VALUE=DATE:20251028
DTSTAMP:20260419T081936
CREATED:20250925T195730Z
LAST-MODIFIED:20251010T160046Z
UID:6343-1761523200-1761609599@hallettcenter.com
SUMMARY:Voting OPEN for Pumpkin Contest
DESCRIPTION:Our Voting is OPEN!\nOur voting for best decorated pumpkins is OPEN this week only! Winners by popular vote for each category will be awarded a gift basket! \nCategories Include: Best Theme\, Scariest\, Best Carved\, and Most Creative (youth 12 and under category) \nVisit our front desk for a voting slip. One slip per person per day. \n \nGood Luck Everyone! We can’t wait to see what everyone comes up with!
URL:https://hallettcenter.com/event/voting-open-for-pumpkin-contest/
CATEGORIES:Announcements,Family Fun
END:VEVENT
BEGIN:VEVENT
DTSTART;VALUE=DATE:20251031
DTEND;VALUE=DATE:20251101
DTSTAMP:20260419T081936
CREATED:20250925T200339Z
LAST-MODIFIED:20251010T160616Z
UID:6346-1761868800-1761955199@hallettcenter.com
SUMMARY:Winners Announced for Pumpkin Contest!
DESCRIPTION:Categories Include: Best Theme\, Scariest\, Best Carved\, and Most Creative (youth 12 and under category) \n \nVisit our front desk for a voting slip. One slip per person per day. LAST DAY TO VOTE is TODAY! \nWinners announced via Facebook & Contacted via phone around 4pm today!
URL:https://hallettcenter.com/event/winners-announced-for-pumpkin-contest/
CATEGORIES:Announcements,Family Fun
END:VEVENT
END:VCALENDAR